BEGIN:VCALENDAR
VERSION:2.0
PRODID:-//Sabre//Sabre VObject 4.5.8//EN
CALSCALE:GREGORIAN
BEGIN:VEVENT
UID:sabre-vobject-ae1efb15-d5dc-4d2d-8b97-b931a496c089
DTSTAMP:20260424T153413Z
SUMMARY:Mit Dir wächst neue ZuverSICHT
DESCRIPTION:https://keb-landkreis-dillingen.de/mit-dir-waechst-neue-zuversi
 cht_id218922
DTSTART;TZID=Europe/Berlin:20240918T140000
DTEND;TZID=Europe/Berlin:20240918T160000
LOCATION:Kath. Kirchenstiftung St. Nikolaus Eppisburg\, Augsburger Straße 
 6\, 89438 Holzheim
END:VEVENT
END:VCALENDAR
