BEGIN:VCALENDAR
VERSION:2.0
PRODID:-//Sabre//Sabre VObject 4.5.8//EN
CALSCALE:GREGORIAN
BEGIN:VEVENT
UID:sabre-vobject-294395ab-183b-4e4c-bef8-87f124e48186
DTSTAMP:20260421T090244Z
SUMMARY:Erste Hilfe Kurs
DESCRIPTION:https://keb-landkreis-dillingen.de/erste-hilfe-kurs_id273537
DTSTART;TZID=Europe/Berlin:20250503T080000
LOCATION:Malteser Hilfsdienst e.V.\, Lindenallee 11\, 89312 Günzburg
END:VEVENT
END:VCALENDAR
