BEGIN:VCALENDAR
VERSION:2.0
PRODID:-//Sabre//Sabre VObject 4.5.8//EN
CALSCALE:GREGORIAN
BEGIN:VEVENT
UID:sabre-vobject-b05fcbeb-9459-4332-b648-f84742e5af4d
DTSTAMP:20260423T143434Z
SUMMARY:Bibelgespräch
DESCRIPTION:https://keb-landkreis-dillingen.de/bibelgespraech_id316765
DTSTART;TZID=Europe/Berlin:20260428T200000
DTEND;TZID=Europe/Berlin:20260428T210000
LOCATION:Pfarrheim Unterthürheim\, Pfarrstraße 1\, 86647 Buttenwiesen
END:VEVENT
END:VCALENDAR
