BEGIN:VCALENDAR
VERSION:2.0
PRODID:-//Sabre//Sabre VObject 4.5.8//EN
CALSCALE:GREGORIAN
BEGIN:VEVENT
UID:sabre-vobject-056232b6-fd53-4d36-8f12-9e647e11749c
DTSTAMP:20260423T090335Z
SUMMARY:Bibel teilen
DESCRIPTION:https://keb-landkreis-dillingen.de/bibel-teilen_id317655
DTSTART;TZID=Europe/Berlin:20260423T184500
LOCATION:Gemeindesaal Ziertheim\, Hauptstraße 18\, 89446 Ziertheim
END:VEVENT
END:VCALENDAR
