BEGIN:VCALENDAR
VERSION:2.0
PRODID:-//Sabre//Sabre VObject 4.5.8//EN
CALSCALE:GREGORIAN
BEGIN:VEVENT
UID:sabre-vobject-d4d43bd6-f06c-4116-bf46-84235438a45c
DTSTAMP:20260423T152202Z
SUMMARY:Erste Hilfe Kurs
DESCRIPTION:https://keb-landkreis-dillingen.de/erste-hilfe-kurs_id319172
DTSTART;TZID=Europe/Berlin:20260425T080000
LOCATION:Malteser Hilfsdienst e.V.\, Lindenallee 11\, 89312 Günzburg
END:VEVENT
END:VCALENDAR
