BEGIN:VCALENDAR
VERSION:2.0
PRODID:-//Sabre//Sabre VObject 4.5.8//EN
CALSCALE:GREGORIAN
BEGIN:VEVENT
UID:sabre-vobject-deb1916e-6273-41cd-9aab-336ed651e1d6
DTSTAMP:20260423T140539Z
SUMMARY:Stadtführung in Lauingen
DESCRIPTION:https://keb-landkreis-dillingen.de/stadtfuehrung-in-lauingen_id
 326691
DTSTART;TZID=Europe/Berlin:20260429T140000
LOCATION:Marktplatz Lauingen\, Herzog-Georg-Straße 17\, 89415 Lauingen (Do
 nau)
END:VEVENT
END:VCALENDAR
