BEGIN:VCALENDAR
VERSION:2.0
PRODID:-//Sabre//Sabre VObject 4.5.8//EN
CALSCALE:GREGORIAN
BEGIN:VEVENT
UID:sabre-vobject-330ff959-7def-458e-ae72-f853277cd36e
DTSTAMP:20260424T113721Z
SUMMARY:Ökumenischer Bibelkreis
DESCRIPTION:https://keb-landkreis-dillingen.de/oekumenischer-bibelkreis_id3
 28158
DTSTART;TZID=Europe/Berlin:20260504T193000
LOCATION:Kirchenzentrum St. Ulrich\, Bischof-Hartmann-Ring 1\, 89407 Dillin
 gen an der Donau
END:VEVENT
END:VCALENDAR
