BEGIN:VCALENDAR
VERSION:2.0
PRODID:-//Sabre//Sabre VObject 4.5.8//EN
CALSCALE:GREGORIAN
BEGIN:VEVENT
UID:sabre-vobject-3d831334-e7c6-4558-9396-0e39b5effce6
DTSTAMP:20260425T134536Z
SUMMARY:"Einblicke hinter die katholische Kulisse"
DESCRIPTION:https://keb-landkreis-dillingen.de/einblicke-hinter-die-katholi
 sche-kulisse_id328160
DTSTART;TZID=Europe/Berlin:20260505T140000
LOCATION:Pfarrheim\, Spitalweg 9\, 86473 Ziemetshausen
END:VEVENT
END:VCALENDAR
